BEGIN:VCALENDAR
VERSION:2.0
PRODID:-//National Council for Geographic Education - ECPv6.15.17.1//NONSGML v1.0//EN
CALSCALE:GREGORIAN
METHOD:PUBLISH
X-WR-CALNAME:National Council for Geographic Education
X-ORIGINAL-URL:https://ncge.org
X-WR-CALDESC:Events for National Council for Geographic Education
REFRESH-INTERVAL;VALUE=DURATION:PT1H
X-Robots-Tag:noindex
X-PUBLISHED-TTL:PT1H
BEGIN:VTIMEZONE
TZID:America/Phoenix
BEGIN:STANDARD
TZOFFSETFROM:-0700
TZOFFSETTO:-0700
TZNAME:MST
DTSTART:20230101T000000
END:STANDARD
END:VTIMEZONE
BEGIN:VEVENT
DTSTART;TZID=America/Phoenix:20241019T151500
DTEND;TZID=America/Phoenix:20241019T154500
DTSTAMP:20260421T061733
CREATED:20240810T194904Z
LAST-MODIFIED:20240810T194904Z
UID:17440-1729350900-1729352700@ncge.org
SUMMARY:Active and Experiential Learning in Geography through the Lens of a Local Urban Development Project
DESCRIPTION:Overview\nMetropolitan regions require innovative strategies for rapidly changing populations. One example is the Atlanta BeltLine\, a major urban redevelopment program. With an estimated cost of $4.8 billion and projected economic impact of $10 billion\, the Atlanta BeltLine is a nearly complete 22-mile loop of multi-use trails and planned transit on a former railway corridor encircling Atlanta\, Georgia\, one of the fastest-growing metro areas in the United States. Not only is the BeltLine a catalyst for economic growth and redevelopment of Atlanta’s Intown neighborhoods\, but it is also a driver of gentrification and displacement. Additionally\, the BeltLine has had local environmental impacts while also incorporating sustainable urban design practices. There are intersections of both human and physical geography on the Atlanta BeltLine landscape\, including an ever-changing collection of public art and murals that link to broader societal changes\, current events\, and public discourse around such topics as gentrification\, neighborhood change\, diversity\, equity\, inclusion\, sustainability\, water\, and ecology\, all with broader implications. In this case study\, we highlight an example of integrating a local urban development project such as the Atlanta BeltLine into geography education\, fostering active and experiential learning and promoting high-impact practices such as undergraduate research. \nSession Focus\nHigher Education | Active Learning |Experiential Learning | Undergraduate Research | Curriculum and Instruction \nConference Room\nColonnade \nMeet the Presenter\nPaul N. McDaniel is an Associate Professor of Geography in the Department of Geography and Anthropology in the Norman J. Radow College of Humanities and Social Sciences at Kennesaw State University in metro Atlanta\, Georgia. He conducts research on the geography of inclusive place-branding practices\, particularly in metro areas in the southeastern United States. He regularly teaches introduction to human geography\, world regional geography\, health geography\, population geography\, urban geography\, cultural geography\, geography of Europe\, and geography of North America\, in a variety of formats\, including face-to-face\, online\, and study abroad.
URL:https://ncge.org/event/active-and-experiential-learning-in-geography-through-the-lens-of-a-local-urban-development-project/
LOCATION:Mission Palms Conference Room: Colonnade\, 60 E 5th St.\, Tempe\, Arizona\, 85281
CATEGORIES:Conference Sessions
END:VEVENT
END:VCALENDAR