BEGIN:VCALENDAR
VERSION:2.0
PRODID:-//National Council for Geographic Education - ECPv6.15.17.1//NONSGML v1.0//EN
CALSCALE:GREGORIAN
METHOD:PUBLISH
X-WR-CALNAME:National Council for Geographic Education
X-ORIGINAL-URL:https://ncge.org
X-WR-CALDESC:Events for National Council for Geographic Education
REFRESH-INTERVAL;VALUE=DURATION:PT1H
X-Robots-Tag:noindex
X-PUBLISHED-TTL:PT1H
BEGIN:VTIMEZONE
TZID:America/New_York
BEGIN:DAYLIGHT
TZOFFSETFROM:-0500
TZOFFSETTO:-0400
TZNAME:EDT
DTSTART:20250309T070000
END:DAYLIGHT
BEGIN:STANDARD
TZOFFSETFROM:-0400
TZOFFSETTO:-0500
TZNAME:EST
DTSTART:20251102T060000
END:STANDARD
BEGIN:DAYLIGHT
TZOFFSETFROM:-0500
TZOFFSETTO:-0400
TZNAME:EDT
DTSTART:20260308T070000
END:DAYLIGHT
BEGIN:STANDARD
TZOFFSETFROM:-0400
TZOFFSETTO:-0500
TZNAME:EST
DTSTART:20261101T060000
END:STANDARD
BEGIN:DAYLIGHT
TZOFFSETFROM:-0500
TZOFFSETTO:-0400
TZNAME:EDT
DTSTART:20270314T070000
END:DAYLIGHT
BEGIN:STANDARD
TZOFFSETFROM:-0400
TZOFFSETTO:-0500
TZNAME:EST
DTSTART:20271107T060000
END:STANDARD
END:VTIMEZONE
BEGIN:VEVENT
DTSTART;TZID=America/New_York:20260513T190000
DTEND;TZID=America/New_York:20260513T200000
DTSTAMP:20260420T071333
CREATED:20260419T201841Z
LAST-MODIFIED:20260419T201841Z
UID:23706-1778698800-1778702400@ncge.org
SUMMARY:Beyond Belief: Exploring the Multifaceted Identities of Jewish Americans
DESCRIPTION:Overview\nIn this session\, you will learn about Jewish Americans and gain tools for introducing the concept of identity to your students. Teachers will walk away with the confidence to teach about Jews as an ethnic and a religious group\, while also modeling methods that can be used to instruct on other identity groups. \nAudience Focus\nAll Grade Levels \nMeet the Presenter\nErika Lowery is a veteran educator with 29 years of experience and an accomplished educator with a comprehensive background in various educational capacities. Her professional journey has included instruction in middle and high school geography(all levels)\, supervision of secondary social studies programs\, and teaching elementary social studies methods at Baylor University. Currently\, she provides professional development to teachers across the southern region as an educator for the Institute for Curriculum Services. Ms. Lowery’s dedication and excellence have been recognized with several prestigious accolades\, including the National Council for Geographic Education Distinguished Teaching Achievement award in 2013\, her selection as the Texas Social Studies Supervisor of the Year in 2022\, and her service on the 2022 World Geography TEKS revision workgroup in Texas. \nAccess the Webinar\n#member only access | Join Webinar Here \nNot yet a member?  More info and Join today!
URL:https://ncge.org/event/beyond-belief-exploring-the-multifaceted-identities-of-jewish-americans/
LOCATION:Webinar
CATEGORIES:Webinars
ATTACH;FMTTYPE=image/png:https://ncge.org/wp-content/uploads/2026/04/Webinar_Beyond_Belief_2026_05_No-Title.png
END:VEVENT
END:VCALENDAR