BEGIN:VCALENDAR
VERSION:2.0
PRODID:-//National Council for Geographic Education - ECPv6.15.17.1//NONSGML v1.0//EN
CALSCALE:GREGORIAN
METHOD:PUBLISH
X-WR-CALNAME:National Council for Geographic Education
X-ORIGINAL-URL:https://ncge.org
X-WR-CALDESC:Events for National Council for Geographic Education
REFRESH-INTERVAL;VALUE=DURATION:PT1H
X-Robots-Tag:noindex
X-PUBLISHED-TTL:PT1H
BEGIN:VTIMEZONE
TZID:America/Chicago
BEGIN:DAYLIGHT
TZOFFSETFROM:-0600
TZOFFSETTO:-0500
TZNAME:CDT
DTSTART:20240310T080000
END:DAYLIGHT
BEGIN:STANDARD
TZOFFSETFROM:-0500
TZOFFSETTO:-0600
TZNAME:CST
DTSTART:20241103T070000
END:STANDARD
BEGIN:DAYLIGHT
TZOFFSETFROM:-0600
TZOFFSETTO:-0500
TZNAME:CDT
DTSTART:20250309T080000
END:DAYLIGHT
BEGIN:STANDARD
TZOFFSETFROM:-0500
TZOFFSETTO:-0600
TZNAME:CST
DTSTART:20251102T070000
END:STANDARD
BEGIN:DAYLIGHT
TZOFFSETFROM:-0600
TZOFFSETTO:-0500
TZNAME:CDT
DTSTART:20260308T080000
END:DAYLIGHT
BEGIN:STANDARD
TZOFFSETFROM:-0500
TZOFFSETTO:-0600
TZNAME:CST
DTSTART:20261101T070000
END:STANDARD
END:VTIMEZONE
BEGIN:VEVENT
DTSTART;TZID=America/Chicago:20251018T144500
DTEND;TZID=America/Chicago:20251018T151500
DTSTAMP:20260421T063436
CREATED:20250711T194050Z
LAST-MODIFIED:20250904T223004Z
UID:21958-1760798700-1760800500@ncge.org
SUMMARY:How Do We Define Regions?
DESCRIPTION:Summary\nIn this presentation\, I demonstrate a mini-lecture and in-class activity I use in my undergraduate World Regional Geography course to introduce students to the concept of a region. On an outline map of U.S. states\, they draw the boundaries of “the Southwest” and list physical and/or human characteristics that define the region. They compare their results with those of classmates in a follow-up discussion and learn that the boundaries and characteristics of perceptual regions can vary. This lesson becomes the foundation for asking what characteristics the textbook authors used to draw the boundaries of each world region that we study throughout the course. It challenges students to think about “Why?” rather than just accepting world regional boundaries. The lesson is a thought-provoking way to begin the semester. I have also used it in a high school world geography classroom with similar success \nSession Focus\nHigher Education | World Geography | Engaging\, Strategies \nConference Room\nLewis \nMeet the Presenter\nDr. Susan Hume is a Professor in the Department of Geography & GIS at Southern Illinois University Edwardsville. She previously taught 9th grade World Geography and 12th Economics and has been an APHG Reader. Susan served on the NCGE Board of Directors as VP for Research from 2012-2014\, President in 2015\, and Past President in 2016.
URL:https://ncge.org/event/how-can-students-apply-their-geographic-knowledge-to-current-events/
LOCATION:Conference Room: Lewis
CATEGORIES:Conference Sessions
ATTACH;FMTTYPE=image/png:https://ncge.org/wp-content/uploads/2025/07/Conference_2025_Session.png
END:VEVENT
END:VCALENDAR