BEGIN:VCALENDAR
VERSION:2.0
PRODID:-//National Council for Geographic Education - ECPv6.15.17.1//NONSGML v1.0//EN
CALSCALE:GREGORIAN
METHOD:PUBLISH
X-WR-CALNAME:National Council for Geographic Education
X-ORIGINAL-URL:https://ncge.org
X-WR-CALDESC:Events for National Council for Geographic Education
REFRESH-INTERVAL;VALUE=DURATION:PT1H
X-Robots-Tag:noindex
X-PUBLISHED-TTL:PT1H
BEGIN:VTIMEZONE
TZID:America/Phoenix
BEGIN:STANDARD
TZOFFSETFROM:-0700
TZOFFSETTO:-0700
TZNAME:MST
DTSTART:20230101T000000
END:STANDARD
END:VTIMEZONE
BEGIN:VEVENT
DTSTART;TZID=America/Phoenix:20241019T141500
DTEND;TZID=America/Phoenix:20241019T150000
DTSTAMP:20260421T063439
CREATED:20240810T174826Z
LAST-MODIFIED:20241014T152236Z
UID:17430-1729347300-1729350000@ncge.org
SUMMARY:Implementing Powerful Geography: Teacher and Student Attitudes
DESCRIPTION:Overview\nPowerful Geography is a new approach to teaching and learning geography which aims to help students find connections between powerful geographic knowledge and students’ future career goals. It is based on related research in STEM fields\, and it hopes to provide teachers with avenues to increase motivation and participation in their geography classrooms. Based upon my doctoral dissertation research\, this presentation will highlight findings from a one semester implementation of Powerful Geography in several classrooms across Texas. This project included teachers from three separate high schools and students in on-level\, PreAP and AP level high school geography courses. We will discuss teacher and student reactions to different implementation strategies\, as well as suggestions and advice from participating teachers for teachers considering this new approach. Lessons\, activities\, and strategies for implementation will be provided. \nSession Focus\nSecondary/High School | Engagement\, Real-world Connections\, STEM | Curriculum and Instruction \nConference Room\nCovetto \nMeet the Presenter\nMichelle Crane is a geography educator in Texarkana\, Texas. She teaches geography\, philosophy\, sociology and diplomacy at Texas High School. She also sponsors Texas High’s Philosophy Club and Model UN team. She is a professor of geography at Texas A&M University at Texarkana and is currently completing a PhD at Texas State University in Geography Education.  She loves to read\, travel\, cook and discuss philosophy.
URL:https://ncge.org/event/implementing-powerful-geography-teacher-and-student-attitudes/
LOCATION:Mission Palms Conference Room: Covetto\, 60 E 5th St.\, Arizona\, 85281
CATEGORIES:Conference Sessions
END:VEVENT
END:VCALENDAR