BEGIN:VCALENDAR
VERSION:2.0
PRODID:-//National Council for Geographic Education - ECPv6.15.17.1//NONSGML v1.0//EN
CALSCALE:GREGORIAN
METHOD:PUBLISH
X-WR-CALNAME:National Council for Geographic Education
X-ORIGINAL-URL:https://ncge.org
X-WR-CALDESC:Events for National Council for Geographic Education
REFRESH-INTERVAL;VALUE=DURATION:PT1H
X-Robots-Tag:noindex
X-PUBLISHED-TTL:PT1H
BEGIN:VTIMEZONE
TZID:America/New_York
BEGIN:DAYLIGHT
TZOFFSETFROM:-0500
TZOFFSETTO:-0400
TZNAME:EDT
DTSTART:20190310T070000
END:DAYLIGHT
BEGIN:STANDARD
TZOFFSETFROM:-0400
TZOFFSETTO:-0500
TZNAME:EST
DTSTART:20191103T060000
END:STANDARD
BEGIN:DAYLIGHT
TZOFFSETFROM:-0500
TZOFFSETTO:-0400
TZNAME:EDT
DTSTART:20200308T070000
END:DAYLIGHT
BEGIN:STANDARD
TZOFFSETFROM:-0400
TZOFFSETTO:-0500
TZNAME:EST
DTSTART:20201101T060000
END:STANDARD
BEGIN:DAYLIGHT
TZOFFSETFROM:-0500
TZOFFSETTO:-0400
TZNAME:EDT
DTSTART:20210314T070000
END:DAYLIGHT
BEGIN:STANDARD
TZOFFSETFROM:-0400
TZOFFSETTO:-0500
TZNAME:EST
DTSTART:20211107T060000
END:STANDARD
END:VTIMEZONE
BEGIN:VEVENT
DTSTART;TZID=America/New_York:20200709T130000
DTEND;TZID=America/New_York:20200709T143000
DTSTAMP:20260420T045138
CREATED:20200624T160055Z
LAST-MODIFIED:20220308T173134Z
UID:3794-1594299600-1594305000@ncge.org
SUMMARY:Master of Arts in Teaching English to Speakers of Other Languages Virtual Information Sessions
DESCRIPTION:Join the Department of Applied Linguistics chair\, Susan Conrad\, for a virtual information session on the Master of Arts in Teaching English to Speakers of Other Languages! The MA TESOL program will continue to accept applications for the Fall of 2020 as space is available. More information on the MA TESOL program can be found at https://www.pdx.edu/linguistics/master-of-arts-in-teaching-english-to-speakers-of-other-languages-ma-tesol. \nTopics covered at the information sessions include: \n•The difference between a TESOL/TESL/TEFL certificate and an MA in TESOL \n•Employment options and opportunities in the US and abroad for individuals holding an MA TESOL degree \n•The focus and structure of PSU’s MA TESOL program \n•The admissions process and deadlines\, including information on entry as a post-bac student and admission for applicants whose first language is not English \n•The foreign language requirement \n•Advising about which courses to start with \n•Tuition assistance \nVirtual information sessions will be held from 1-2:30 p.m. on Friday\, Thursday\, July 9th\, 2020 \nTo receive a link to the Zoom session\, please RSVP to linginfo@pdx.edu or join the department’s Google Group to receive announcements on future info session dates by emailing: linginfo@pdx.edu 
URL:https://ncge.org/event/master-of-arts-in-teaching-english-to-speakers-of-other-languages-virtual-information-sessions/
END:VEVENT
END:VCALENDAR