BEGIN:VCALENDAR
VERSION:2.0
PRODID:-//National Council for Geographic Education - ECPv6.15.17.1//NONSGML v1.0//EN
CALSCALE:GREGORIAN
METHOD:PUBLISH
X-WR-CALNAME:National Council for Geographic Education
X-ORIGINAL-URL:https://ncge.org
X-WR-CALDESC:Events for National Council for Geographic Education
REFRESH-INTERVAL;VALUE=DURATION:PT1H
X-Robots-Tag:noindex
X-PUBLISHED-TTL:PT1H
BEGIN:VTIMEZONE
TZID:America/New_York
BEGIN:DAYLIGHT
TZOFFSETFROM:-0500
TZOFFSETTO:-0400
TZNAME:EDT
DTSTART:20230312T070000
END:DAYLIGHT
BEGIN:STANDARD
TZOFFSETFROM:-0400
TZOFFSETTO:-0500
TZNAME:EST
DTSTART:20231105T060000
END:STANDARD
BEGIN:DAYLIGHT
TZOFFSETFROM:-0500
TZOFFSETTO:-0400
TZNAME:EDT
DTSTART:20240310T070000
END:DAYLIGHT
BEGIN:STANDARD
TZOFFSETFROM:-0400
TZOFFSETTO:-0500
TZNAME:EST
DTSTART:20241103T060000
END:STANDARD
BEGIN:DAYLIGHT
TZOFFSETFROM:-0500
TZOFFSETTO:-0400
TZNAME:EDT
DTSTART:20250309T070000
END:DAYLIGHT
BEGIN:STANDARD
TZOFFSETFROM:-0400
TZOFFSETTO:-0500
TZNAME:EST
DTSTART:20251102T060000
END:STANDARD
END:VTIMEZONE
BEGIN:VEVENT
DTSTART;TZID=America/New_York:20240131T190000
DTEND;TZID=America/New_York:20240131T200000
DTSTAMP:20260420T044946
CREATED:20240122T195018Z
LAST-MODIFIED:20240122T195139Z
UID:16280-1706727600-1706731200@ncge.org
SUMMARY:Maximizing geographic inquiry: Question formulation\, connecting to standards\, and civic engagement
DESCRIPTION:Summary\nGeographic inquiry is fundamental to our teaching and learning in geography and related disciplines\, regardless of grade level. This session provides an opportunity to refine geographic inquiry to maximize student learning and engagement\, with a particular focus on formulating good questions\, linking to state standards\, and providing pathways for civic engagement. \nPresenter: Alex Oberle\n \nWebinar Access\nMember only Access | Join Webinar Here \nNot yet a member? More info and Join Today! \n 
URL:https://ncge.org/event/maximizing-geographic-inquiry-question-formulation-connecting-to-standards-and-civic-engagement/
LOCATION:Webinar
CATEGORIES:Webinars
ATTACH;FMTTYPE=image/png:https://ncge.org/wp-content/uploads/2024/01/NCGE_Webinar_Geographic_Inquiry_2024.png
END:VEVENT
END:VCALENDAR