BEGIN:VCALENDAR
VERSION:2.0
PRODID:-//National Council for Geographic Education - ECPv6.15.17.1//NONSGML v1.0//EN
CALSCALE:GREGORIAN
METHOD:PUBLISH
X-WR-CALNAME:National Council for Geographic Education
X-ORIGINAL-URL:https://ncge.org
X-WR-CALDESC:Events for National Council for Geographic Education
REFRESH-INTERVAL;VALUE=DURATION:PT1H
X-Robots-Tag:noindex
X-PUBLISHED-TTL:PT1H
BEGIN:VTIMEZONE
TZID:America/Chicago
BEGIN:DAYLIGHT
TZOFFSETFROM:-0600
TZOFFSETTO:-0500
TZNAME:CDT
DTSTART:20240310T080000
END:DAYLIGHT
BEGIN:STANDARD
TZOFFSETFROM:-0500
TZOFFSETTO:-0600
TZNAME:CST
DTSTART:20241103T070000
END:STANDARD
BEGIN:DAYLIGHT
TZOFFSETFROM:-0600
TZOFFSETTO:-0500
TZNAME:CDT
DTSTART:20250309T080000
END:DAYLIGHT
BEGIN:STANDARD
TZOFFSETFROM:-0500
TZOFFSETTO:-0600
TZNAME:CST
DTSTART:20251102T070000
END:STANDARD
BEGIN:DAYLIGHT
TZOFFSETFROM:-0600
TZOFFSETTO:-0500
TZNAME:CDT
DTSTART:20260308T080000
END:DAYLIGHT
BEGIN:STANDARD
TZOFFSETFROM:-0500
TZOFFSETTO:-0600
TZNAME:CST
DTSTART:20261101T070000
END:STANDARD
END:VTIMEZONE
BEGIN:VEVENT
DTSTART;VALUE=DATE:20251018
DTEND;VALUE=DATE:20251019
DTSTAMP:20260420T060409
CREATED:20250921T194249Z
LAST-MODIFIED:20250921T194249Z
UID:22565-1760745600-1760831999@ncge.org
SUMMARY:Poster Session: Drones in Geography Classrooms: Advantages and Challenges
DESCRIPTION:Summary\nDrones as remote sensing platforms have changed the way geographers map the world. Given the low cost and ease of use of drones\, the need to educate\ngeography students on scientifically sound and ethical use of drones has never been greater. As university geography departments develop drone\ncourses to attract new majors and provide desired instruction\, the academic community knows little about drone curriculum in geography (either in whole or as a part of a course) and how such courses are being taught. This study\, through a Web-based survey of forty-five instructors\, provides a baseline understanding of drone instruction within geography higher education. We outline who is teaching geography courses with drone content\, and\, more important\, what and how drone content is being taught. Findings reflect differing instructional approaches and content-related uncertainties connected to courses potentially lacking remote sensing principles. \nSession Focus\nHigher Education | Technology | Drones | Geography Education \nConference Room\nBanquet Level – Mezzanine Area \nThe Presenter\nAdam Mathews \nGrayson Morgan \n 
URL:https://ncge.org/event/poster-session-drones-in-geography-classrooms-advantages-and-challenges/
LOCATION:Banquet Level –  Mezannine Area
CATEGORIES:Conference Sessions
ATTACH;FMTTYPE=image/png:https://ncge.org/wp-content/uploads/2025/07/Conference_2025_Session.png
END:VEVENT
END:VCALENDAR