BEGIN:VCALENDAR
VERSION:2.0
PRODID:-//National Council for Geographic Education - ECPv6.15.17.1//NONSGML v1.0//EN
CALSCALE:GREGORIAN
METHOD:PUBLISH
X-WR-CALNAME:National Council for Geographic Education
X-ORIGINAL-URL:https://ncge.org
X-WR-CALDESC:Events for National Council for Geographic Education
REFRESH-INTERVAL;VALUE=DURATION:PT1H
X-Robots-Tag:noindex
X-PUBLISHED-TTL:PT1H
BEGIN:VTIMEZONE
TZID:America/Phoenix
BEGIN:STANDARD
TZOFFSETFROM:-0700
TZOFFSETTO:-0700
TZNAME:MST
DTSTART:20230101T000000
END:STANDARD
END:VTIMEZONE
BEGIN:VEVENT
DTSTART;TZID=America/Phoenix:20241019T100000
DTEND;TZID=America/Phoenix:20241019T104500
DTSTAMP:20260420T060400
CREATED:20240903T190144Z
LAST-MODIFIED:20240906T150145Z
UID:18110-1729332000-1729334700@ncge.org
SUMMARY:Research Roundtable for Geography Education
DESCRIPTION:Overview\nResearch underscores the empirical value of geography education\, not just its intrinsic value.  Participants in the research roundtable will meet to identify pathways for collaboration\, sources of funding\, and possibilities for the future of research in geography education.  This session is supported by the American Association of Geographers’ (AAG) Geography Education Specialty Group. \nSession Focus\nResearch | Collaboration | Grant Applications \nRoom\nDelores \nMeet the Presenters\nAAG’s Geography Education Specialty Group | Mary Curtis and Thomas Larsen \nThomas Larsen is 2024 President of the National Council for Geographic Education (NCGE).  He serves as Co-Coordinator of the Geographic Alliance of Iowa (GAI) and teaches geography at the University of Northern Iowa. \n  \n  \n  \nDr. Mary D. Curtis is an Assistant Professor at the University of Houston-Clear Lake in the College of Education where she coordinates the Social Studies teacher preparation program. Dr. Curtis is a geography educator with over 20 years of experience and service from local to international levels. She currently serves as the Vice Chair for the Association of American Geographers Geography Education Specialty Group and as Associate Editor for the Journal of Geography.
URL:https://ncge.org/event/research-roundtable-for-geography-education/
LOCATION:Mission Palms Conference Room: Dolores
CATEGORIES:Conference Sessions
END:VEVENT
END:VCALENDAR