BEGIN:VCALENDAR
VERSION:2.0
PRODID:-//National Council for Geographic Education - ECPv6.15.17.1//NONSGML v1.0//EN
CALSCALE:GREGORIAN
METHOD:PUBLISH
X-WR-CALNAME:National Council for Geographic Education
X-ORIGINAL-URL:https://ncge.org
X-WR-CALDESC:Events for National Council for Geographic Education
REFRESH-INTERVAL;VALUE=DURATION:PT1H
X-Robots-Tag:noindex
X-PUBLISHED-TTL:PT1H
BEGIN:VTIMEZONE
TZID:America/New_York
BEGIN:DAYLIGHT
TZOFFSETFROM:-0500
TZOFFSETTO:-0400
TZNAME:EDT
DTSTART:20190310T070000
END:DAYLIGHT
BEGIN:STANDARD
TZOFFSETFROM:-0400
TZOFFSETTO:-0500
TZNAME:EST
DTSTART:20191103T060000
END:STANDARD
BEGIN:DAYLIGHT
TZOFFSETFROM:-0500
TZOFFSETTO:-0400
TZNAME:EDT
DTSTART:20200308T070000
END:DAYLIGHT
BEGIN:STANDARD
TZOFFSETFROM:-0400
TZOFFSETTO:-0500
TZNAME:EST
DTSTART:20201101T060000
END:STANDARD
BEGIN:DAYLIGHT
TZOFFSETFROM:-0500
TZOFFSETTO:-0400
TZNAME:EDT
DTSTART:20210314T070000
END:DAYLIGHT
BEGIN:STANDARD
TZOFFSETFROM:-0400
TZOFFSETTO:-0500
TZNAME:EST
DTSTART:20211107T060000
END:STANDARD
END:VTIMEZONE
BEGIN:VEVENT
DTSTART;TZID=America/New_York:20200709T130000
DTEND;TZID=America/New_York:20200709T140000
DTSTAMP:20260420T045209
CREATED:20200624T160623Z
LAST-MODIFIED:20220308T173107Z
UID:3798-1594299600-1594303200@ncge.org
SUMMARY:The Applied Linguistics faculty invites you to an information session about a major\, minor or TESL certificate in our department
DESCRIPTION:NCGE Oregon Alliance Presents:  \nApplied Linguistics is the study of language to address real-world problems. As a broad field that touches many aspects of human interaction\, applied linguistics includes subjects such as how language works in the brain\, interactions between language and culture\, and teaching English as a second language (TESL). The field has many close ties to social sciences\, foreign language studies\, and English language arts. As a result\, students often major in Applied Linguistics with a minor in one of those related areas or vice versa. \nThursday\, July 9th\, 2020\n1-2 pm \nThis is a virtual information session\, please RSVP to linginfo@pdx.edu to receive the Zoom link.
URL:https://ncge.org/event/the-applied-linguistics-faculty-invites-you-to-an-information-session-about-a-major-minor-or-tesl-certificate-in-our-department/
END:VEVENT
END:VCALENDAR