BEGIN:VCALENDAR
VERSION:2.0
PRODID:-//National Council for Geographic Education - ECPv6.15.17.1//NONSGML v1.0//EN
CALSCALE:GREGORIAN
METHOD:PUBLISH
X-WR-CALNAME:National Council for Geographic Education
X-ORIGINAL-URL:https://ncge.org
X-WR-CALDESC:Events for National Council for Geographic Education
REFRESH-INTERVAL;VALUE=DURATION:PT1H
X-Robots-Tag:noindex
X-PUBLISHED-TTL:PT1H
BEGIN:VTIMEZONE
TZID:America/Phoenix
BEGIN:STANDARD
TZOFFSETFROM:-0700
TZOFFSETTO:-0700
TZNAME:MST
DTSTART:20230101T000000
END:STANDARD
END:VTIMEZONE
BEGIN:VEVENT
DTSTART;TZID=America/Phoenix:20241019T151500
DTEND;TZID=America/Phoenix:20241019T154500
DTSTAMP:20260421T045144
CREATED:20240810T193826Z
LAST-MODIFIED:20240810T193826Z
UID:17434-1729350900-1729352700@ncge.org
SUMMARY:The Case for Case Studies: Using Truffle Farming to Promote Inquiry and Mapping Skills
DESCRIPTION:Overview\nGeography is inherently a visual social studies that requires students to practice a new literacy and observation skill set with maps\, charts\, visuals and data sets. Case studies can be extremely useful in the classroom to bridge critical thinking and problem solving with mapping and modeling skills progressions. Students move from identifying and describing data points on maps to interpreting distribution patterns and constructing maps through the inquiry process. Participants of this session will engage with materials regarding the implementation of case studies in the geography classroom. Participants will take a deep dive into the conditions required for truffle farming and use various maps to identify optimal locations for existing and potential truffle farms. This particular case study looks at the impacts of human-environment interaction and the use of maps and models to interpret and predict agricultural development and land use patterns through map construction. \nSession Focus\nSecondary/High School |Mapping | Inquiry |  Application \nConference Room\nDolores \nMeet the Presenter\nBethany Sanders is a Secondary social studies teacher at Dutch Fork High School in Irmo\, SC. She teaches Human Geography and AP Comparative Politics. Bethany’s classroom focuses on guided inquiry and promoting student literacy to understand the impacts of globalization on politics\, population\, economic development\, culture\, and urbanization.
URL:https://ncge.org/event/the-case-for-case-studies-using-truffle-farming-to-promote-inquiry-and-mapping-skills/
LOCATION:Mission Palms Conference Room: Dolores
CATEGORIES:Conference Sessions
END:VEVENT
END:VCALENDAR