BEGIN:VCALENDAR
VERSION:2.0
PRODID:-//National Council for Geographic Education - ECPv6.15.17.1//NONSGML v1.0//EN
CALSCALE:GREGORIAN
METHOD:PUBLISH
X-WR-CALNAME:National Council for Geographic Education
X-ORIGINAL-URL:https://ncge.org
X-WR-CALDESC:Events for National Council for Geographic Education
REFRESH-INTERVAL;VALUE=DURATION:PT1H
X-Robots-Tag:noindex
X-PUBLISHED-TTL:PT1H
BEGIN:VTIMEZONE
TZID:America/New_York
BEGIN:DAYLIGHT
TZOFFSETFROM:-0500
TZOFFSETTO:-0400
TZNAME:EDT
DTSTART:20190310T070000
END:DAYLIGHT
BEGIN:STANDARD
TZOFFSETFROM:-0400
TZOFFSETTO:-0500
TZNAME:EST
DTSTART:20191103T060000
END:STANDARD
BEGIN:DAYLIGHT
TZOFFSETFROM:-0500
TZOFFSETTO:-0400
TZNAME:EDT
DTSTART:20200308T070000
END:DAYLIGHT
BEGIN:STANDARD
TZOFFSETFROM:-0400
TZOFFSETTO:-0500
TZNAME:EST
DTSTART:20201101T060000
END:STANDARD
BEGIN:DAYLIGHT
TZOFFSETFROM:-0500
TZOFFSETTO:-0400
TZNAME:EDT
DTSTART:20210314T070000
END:DAYLIGHT
BEGIN:STANDARD
TZOFFSETFROM:-0400
TZOFFSETTO:-0500
TZNAME:EST
DTSTART:20211107T060000
END:STANDARD
END:VTIMEZONE
BEGIN:VEVENT
DTSTART;TZID=America/New_York:20200703T090000
DTEND;TZID=America/New_York:20200703T160000
DTSTAMP:20260420T044946
CREATED:20200624T171718Z
LAST-MODIFIED:20220308T170836Z
UID:10000090-1593766800-1593792000@ncge.org
SUMMARY:The Dynamic City:  Save the date Summer 2020!
DESCRIPTION:Geographic Educators of Nebraska Presents:\nThe Dynamic City\nSave the date: Summer 2020! Geographic Educators of Nebraska workshop for high school geography. Sessions will cover changes to high school state standards as well as break-out sessions for Advanced Placement Human Geography.  Graduate-credit possibly available from University of Nebraska Omaha (in development).  Workshop will combine training in the inquiry method\, content\, and field experiences. \nJune 29th\, 30th\, and 1st July (Monday\, Tuesday\, Wednesday)\, 9am-4pm This year’s workshop will be held in Omaha.  Watch the GEON website for more information:   \nQuestions? Contact:  Geographic Educators of Nebraska — geonebraska2019@gmail.com    \n\n\n\n\n\n\n\n\nAlong with registration using the Form located HERE. Please pay your $50 deposit using the paypal button to the right. At the end of the workshop the fee will be refunded to you.
URL:https://ncge.org/event/the-dynamic-city-save-the-date-summer-2020/2020-07-03/
END:VEVENT
END:VCALENDAR