BEGIN:VCALENDAR
VERSION:2.0
PRODID:-//National Council for Geographic Education - ECPv6.15.17.1//NONSGML v1.0//EN
CALSCALE:GREGORIAN
METHOD:PUBLISH
X-WR-CALNAME:National Council for Geographic Education
X-ORIGINAL-URL:https://ncge.org
X-WR-CALDESC:Events for National Council for Geographic Education
REFRESH-INTERVAL;VALUE=DURATION:PT1H
X-Robots-Tag:noindex
X-PUBLISHED-TTL:PT1H
BEGIN:VTIMEZONE
TZID:America/Phoenix
BEGIN:STANDARD
TZOFFSETFROM:-0700
TZOFFSETTO:-0700
TZNAME:MST
DTSTART:20230101T000000
END:STANDARD
END:VTIMEZONE
BEGIN:VEVENT
DTSTART;TZID=America/Phoenix:20241018T151500
DTEND;TZID=America/Phoenix:20241018T160000
DTSTAMP:20260420T060733
CREATED:20240806T210958Z
LAST-MODIFIED:20240806T212812Z
UID:17228-1729264500-1729267200@ncge.org
SUMMARY:Using Human Rights Education to Teach about the Israel-Hamas War
DESCRIPTION:Summary\nExplore how human rights education (HRE) can help teachers frame sensitive/controversial topics\, including the Israel-Hamas war. This interactive session will begin with a discussion of human rights issues commonly addressed in geography and/or social studies classrooms. Following this think-pair-share activity\, I will provide participants with a brief history of human rights concepts and outline a HRE framework. This portion of the session will include an introduction to key concepts in contemporary human rights discourse\, with a focus on the Universal Declaration of Human Rights (1948) and the Convention of the Rights of the Child (1990). Next\, I will guide participants through the process of using the previously outlined HRE framework to examine the Israel-Hamas war. The activity will include small group analyses of pivotal and contested events since this conflict began on October 7\, 2023. Lastly\, each group will share their evaluation of assigned events\, and all participants will have a chance to engage in a discussion of these conclusions. \nSession Focus\nSecondary/High School |World/International | Human Rights | Global Citizenship | Israel-Hamas War \nRoom\nColonnade \nMeet the Presenters\nSean Corrigan currently serves as Assistant Professor of Multicultural Education at Southern Oregon University. Prior to his time in higher education\, he taught social studies for 14 years in Compton\, CA\, Las Vegas\, NV\, and Vanuatu. He has worked extensively with culturally and linguistically diverse K-12 learners in several countries\, in both urban and rural settings. Dr. Corrigan’s current research focuses on human rights education and global citizenship. He is especially interested in empowering teachers to center social justice and diverse perspectives in their practice\, particularly when they may face opposition to doing so.
URL:https://ncge.org/event/using-human-rights-education-to-teach-about-the-israel-hamas-war/
LOCATION:Mission Palms Conference Room: Colonnade\, 60 E 5th St.\, Tempe\, Arizona\, 85281
CATEGORIES:Conference Sessions
END:VEVENT
END:VCALENDAR