BEGIN:VCALENDAR
VERSION:2.0
PRODID:-//National Council for Geographic Education - ECPv6.15.17.1//NONSGML v1.0//EN
CALSCALE:GREGORIAN
METHOD:PUBLISH
X-WR-CALNAME:National Council for Geographic Education
X-ORIGINAL-URL:https://ncge.org
X-WR-CALDESC:Events for National Council for Geographic Education
REFRESH-INTERVAL;VALUE=DURATION:PT1H
X-Robots-Tag:noindex
X-PUBLISHED-TTL:PT1H
BEGIN:VTIMEZONE
TZID:America/New_York
BEGIN:DAYLIGHT
TZOFFSETFROM:-0500
TZOFFSETTO:-0400
TZNAME:EDT
DTSTART:20230312T070000
END:DAYLIGHT
BEGIN:STANDARD
TZOFFSETFROM:-0400
TZOFFSETTO:-0500
TZNAME:EST
DTSTART:20231105T060000
END:STANDARD
BEGIN:DAYLIGHT
TZOFFSETFROM:-0500
TZOFFSETTO:-0400
TZNAME:EDT
DTSTART:20240310T070000
END:DAYLIGHT
BEGIN:STANDARD
TZOFFSETFROM:-0400
TZOFFSETTO:-0500
TZNAME:EST
DTSTART:20241103T060000
END:STANDARD
BEGIN:DAYLIGHT
TZOFFSETFROM:-0500
TZOFFSETTO:-0400
TZNAME:EDT
DTSTART:20250309T070000
END:DAYLIGHT
BEGIN:STANDARD
TZOFFSETFROM:-0400
TZOFFSETTO:-0500
TZNAME:EST
DTSTART:20251102T060000
END:STANDARD
END:VTIMEZONE
BEGIN:VEVENT
DTSTART;TZID=America/New_York:20240221T190000
DTEND;TZID=America/New_York:20240221T200000
DTSTAMP:20260421T075433
CREATED:20240201T134312Z
LAST-MODIFIED:20240201T140652Z
UID:10000177-1708542000-1708545600@ncge.org
SUMMARY:The Adventures of Mo: A geography resource for educators
DESCRIPTION:Summary\nMo is a free\, online geography resource that engages and connects K-5 students. It offers an eBook that takes kids on fun adventures to every US state; state blogs with history; state trivia; Videos for kids\, by kid; Scramble games\, and opportunities to earn cash. Twelve live guided imagery presentations via zoom are also available for a small fee. \nAbout the Presenter\n \nCarol Patton\, a national-award winning journalist and writer\, created and wrote The Adventures of Mo to help students better understand and respect the world they live in and the world around them. During her 30+ year freelance writing career\, Patton has authored about 2\,000 published articles for online and print publications along with five published guidebooks\, a published short story\, and more. \nWebinar Access\nMember only | Join Webinar Here \nNot yet a member?  More info and Join today! \n 
URL:https://ncge.org/event/he-adventures-of-mo-a-geography-resource-for-educators-for-free/
LOCATION:Webinar
CATEGORIES:Webinars
ATTACH;FMTTYPE=image/png:https://ncge.org/wp-content/uploads/2024/02/NCGE_MO_Webinar_2024-1.png
END:VEVENT
END:VCALENDAR