BEGIN:VCALENDAR
VERSION:2.0
PRODID:-//National Council for Geographic Education - ECPv6.15.17.1//NONSGML v1.0//EN
CALSCALE:GREGORIAN
METHOD:PUBLISH
X-ORIGINAL-URL:https://ncge.org
X-WR-CALDESC:Events for National Council for Geographic Education
REFRESH-INTERVAL;VALUE=DURATION:PT1H
X-Robots-Tag:noindex
X-PUBLISHED-TTL:PT1H
BEGIN:VTIMEZONE
TZID:America/New_York
BEGIN:DAYLIGHT
TZOFFSETFROM:-0500
TZOFFSETTO:-0400
TZNAME:EDT
DTSTART:20250309T070000
END:DAYLIGHT
BEGIN:STANDARD
TZOFFSETFROM:-0400
TZOFFSETTO:-0500
TZNAME:EST
DTSTART:20251102T060000
END:STANDARD
BEGIN:DAYLIGHT
TZOFFSETFROM:-0500
TZOFFSETTO:-0400
TZNAME:EDT
DTSTART:20260308T070000
END:DAYLIGHT
BEGIN:STANDARD
TZOFFSETFROM:-0400
TZOFFSETTO:-0500
TZNAME:EST
DTSTART:20261101T060000
END:STANDARD
BEGIN:DAYLIGHT
TZOFFSETFROM:-0500
TZOFFSETTO:-0400
TZNAME:EDT
DTSTART:20270314T070000
END:DAYLIGHT
BEGIN:STANDARD
TZOFFSETFROM:-0400
TZOFFSETTO:-0500
TZNAME:EST
DTSTART:20271107T060000
END:STANDARD
END:VTIMEZONE
BEGIN:VEVENT
DTSTART;TZID=America/New_York:20260520T190000
DTEND;TZID=America/New_York:20260520T200000
DTSTAMP:20260420T102559
CREATED:20260419T220234Z
LAST-MODIFIED:20260419T220234Z
UID:10000417-1779303600-1779307200@ncge.org
SUMMARY:Publishing with NCGE
DESCRIPTION:Overview\nHave a great lesson idea or trying something new in teaching geography that you would like to share? Consider publishing with the Journal of Geography or The Geography Teacher. This webinar will focus on the process\, possible topics\, and advantages of publishing with NCGE. \nAudience Focus\nAll grade levels \nMeet the Presenter\nKyle Tredinnick \nAccess the Webinar\n#open access | Join Webinar Here \nNot yet a member?  More info and Join today!
URL:https://ncge.org/event/publishing-with-ncge/
LOCATION:Webinar
CATEGORIES:Webinars
ATTACH;FMTTYPE=image/png:https://ncge.org/wp-content/uploads/2026/04/Webinar_Publishing_with_NCGE_No-title.png
END:VEVENT
END:VCALENDAR