BEGIN:VCALENDAR
VERSION:2.0
PRODID:-//National Council for Geographic Education - ECPv6.15.17.1//NONSGML v1.0//EN
CALSCALE:GREGORIAN
METHOD:PUBLISH
X-WR-CALNAME:National Council for Geographic Education
X-ORIGINAL-URL:https://ncge.org
X-WR-CALDESC:Events for National Council for Geographic Education
REFRESH-INTERVAL;VALUE=DURATION:PT1H
X-Robots-Tag:noindex
X-PUBLISHED-TTL:PT1H
BEGIN:VTIMEZONE
TZID:America/New_York
BEGIN:DAYLIGHT
TZOFFSETFROM:-0500
TZOFFSETTO:-0400
TZNAME:EDT
DTSTART:20250309T070000
END:DAYLIGHT
BEGIN:STANDARD
TZOFFSETFROM:-0400
TZOFFSETTO:-0500
TZNAME:EST
DTSTART:20251102T060000
END:STANDARD
BEGIN:DAYLIGHT
TZOFFSETFROM:-0500
TZOFFSETTO:-0400
TZNAME:EDT
DTSTART:20260308T070000
END:DAYLIGHT
BEGIN:STANDARD
TZOFFSETFROM:-0400
TZOFFSETTO:-0500
TZNAME:EST
DTSTART:20261101T060000
END:STANDARD
BEGIN:DAYLIGHT
TZOFFSETFROM:-0500
TZOFFSETTO:-0400
TZNAME:EDT
DTSTART:20270314T070000
END:DAYLIGHT
BEGIN:STANDARD
TZOFFSETFROM:-0400
TZOFFSETTO:-0500
TZNAME:EST
DTSTART:20271107T060000
END:STANDARD
END:VTIMEZONE
BEGIN:VEVENT
DTSTART;TZID=America/New_York:20260519T190000
DTEND;TZID=America/New_York:20260519T200000
DTSTAMP:20260421T062542
CREATED:20260419T204241Z
LAST-MODIFIED:20260419T205224Z
UID:10000416-1779217200-1779220800@ncge.org
SUMMARY:GeoCircle: Spatial Thinking IRL - Taking Your Geography Students Outside
DESCRIPTION:Overview\nAs spring continues and summer approaches\, let’s get the students outside. Join us for a casual discussion about how to teach spatial thinking out in the field (outside) with your students. There are so many opportunities for hands-on\, active learning. Whether you are a primary\, middle or high school teachers there are activities for everyone! Come with ideas and questions. \nThe Facilitator\nJoseph Kerski is a geographer with a focus on the use of Geographic Information Systems (GIS) in education. He has served as the President of the National Council for Geographic Education and has given 2 TED Talks on “The Whys of Where”. He holds 3 degrees in geography (BA\, MA\, PhD) and has served as geographer in 4 major sectors of society\, including government (NOAA\, US Census Bureau\, USGS)\, academia (University of Minnesota\, Harrisburg Area Community College\, Penn State University\, Sinte Gleska University\, University of Denver\, others)\, private industry (as Education Manager for Esri)\, and nonprofit organizations (with roles in geography and education associations). Joseph has authored over 100 chapters and articles\, and 200 podcasts on GIS\, education\, space\, place\, and related topics. He has visited over 350 schools and 400 universities around the world. He regularly conducts professional development for educators. He has created over 6\,200 videos\, 1\,000 lessons\, 1\,000 blog essays\, and authored 12 books\, including Interpreting Our World\, Spatial Thinking in Environmental Contexts\, Essentials of the Environment\, Spatial Mathematics\, Tribal GIS\, International Perspectives on Teaching and Learning\, the GIS Guide to Public Domain Data\, and others. But as a lifelong learner\, he feels as though he’s just getting started and thus actively seeks mentors\, partners\, and collaborators. \nJoin the Session\nAbout GeoCircles and Join the Session
URL:https://ncge.org/event/geocircle-spatial-thinking-irl-taking-your-geography-students-outside/
LOCATION:Webinar
CATEGORIES:GeEd Circle
ATTACH;FMTTYPE=image/png:https://ncge.org/wp-content/uploads/2025/08/GeoCircle_Event_Pic.png
END:VEVENT
BEGIN:VEVENT
DTSTART;TZID=America/New_York:20260520T190000
DTEND;TZID=America/New_York:20260520T200000
DTSTAMP:20260421T062542
CREATED:20260419T220234Z
LAST-MODIFIED:20260419T220234Z
UID:10000417-1779303600-1779307200@ncge.org
SUMMARY:Publishing with NCGE
DESCRIPTION:Overview\nHave a great lesson idea or trying something new in teaching geography that you would like to share? Consider publishing with the Journal of Geography or The Geography Teacher. This webinar will focus on the process\, possible topics\, and advantages of publishing with NCGE. \nAudience Focus\nAll grade levels \nMeet the Presenter\nKyle Tredinnick \nAccess the Webinar\n#open access | Join Webinar Here \nNot yet a member?  More info and Join today!
URL:https://ncge.org/event/publishing-with-ncge/
LOCATION:Webinar
CATEGORIES:Webinars
ATTACH;FMTTYPE=image/png:https://ncge.org/wp-content/uploads/2026/04/Webinar_Publishing_with_NCGE_No-title.png
END:VEVENT
BEGIN:VEVENT
DTSTART;TZID=America/New_York:20261016T080000
DTEND;TZID=America/New_York:20261018T170000
DTSTAMP:20260421T062542
CREATED:20260112T161744Z
LAST-MODIFIED:20260310T130635Z
UID:10000400-1792137600-1792342800@ncge.org
SUMMARY:NCGE 2026 Annual Conference
DESCRIPTION:Geography on the Fall Line\n\n\n\n\nForm a spatial cluster with educators\, researchers\, and leaders in the discipline to network\, learn about new trends in educational practice and research\, and explore a place and region with historical roots and a dynamic modern environment. \nLearn More!
URL:https://ncge.org/event/ncge-2026-annual-conference/
LOCATION:Virginia Museum of History & Culture\, 428 North Arthur Ashe Boulevard\, Richmond\, Virginia\, 23220
ATTACH;FMTTYPE=image/png:https://ncge.org/wp-content/uploads/2026/01/Conference_Date_2026-1.png
END:VEVENT
END:VCALENDAR