BEGIN:VCALENDAR
VERSION:2.0
PRODID:-//National Council for Geographic Education - ECPv6.15.17.1//NONSGML v1.0//EN
CALSCALE:GREGORIAN
METHOD:PUBLISH
X-WR-CALNAME:National Council for Geographic Education
X-ORIGINAL-URL:https://ncge.org
X-WR-CALDESC:Events for National Council for Geographic Education
REFRESH-INTERVAL;VALUE=DURATION:PT1H
X-Robots-Tag:noindex
X-PUBLISHED-TTL:PT1H
BEGIN:VTIMEZONE
TZID:America/New_York
BEGIN:DAYLIGHT
TZOFFSETFROM:-0500
TZOFFSETTO:-0400
TZNAME:EDT
DTSTART:20240310T070000
END:DAYLIGHT
BEGIN:STANDARD
TZOFFSETFROM:-0400
TZOFFSETTO:-0500
TZNAME:EST
DTSTART:20241103T060000
END:STANDARD
BEGIN:DAYLIGHT
TZOFFSETFROM:-0500
TZOFFSETTO:-0400
TZNAME:EDT
DTSTART:20250309T070000
END:DAYLIGHT
BEGIN:STANDARD
TZOFFSETFROM:-0400
TZOFFSETTO:-0500
TZNAME:EST
DTSTART:20251102T060000
END:STANDARD
BEGIN:DAYLIGHT
TZOFFSETFROM:-0500
TZOFFSETTO:-0400
TZNAME:EDT
DTSTART:20260308T070000
END:DAYLIGHT
BEGIN:STANDARD
TZOFFSETFROM:-0400
TZOFFSETTO:-0500
TZNAME:EST
DTSTART:20261101T060000
END:STANDARD
END:VTIMEZONE
BEGIN:VEVENT
DTSTART;TZID=America/New_York:20250108T190000
DTEND;TZID=America/New_York:20250108T200000
DTSTAMP:20260420T073232
CREATED:20241205T201808Z
LAST-MODIFIED:20241205T201808Z
UID:10000290-1736362800-1736366400@ncge.org
SUMMARY:The Cost of Borders
DESCRIPTION:Overview\nBorders\, rather than markers of sovereign territory\, are marketplaces comprised of always costly\, and often deadly transactions. Moving from Lesbos\, to Gaza\, to Tijuana\, the project shows how the costs of borders\, patterned by inequalities of racism\, sexism\, and disability\, fluctuate over time and space\, and differ depending on who is attempting to cross. \nAudience Focus\nAll grade levels \nMeet the Presenter\nHeba Gowayed (pronounced HEH-buh go-WAY-ed)\, is a writer and sociologist. She is an Associate Professor of Sociology at CUNY Hunter College & Graduate Center. Her research and writing centers the lives of people who migrate across borders and the unequal and often violent institutions they face. \nHer award-winning book Refuge\, published with Princeton University Press\, takes readers into the lives of displaced Syrians who sought refuge in the US\, Canada\, and Germany. Their experiences reveal that these destination countries are not saviors; they can deny newcomers’ potential by failing to recognize their abilities and invest in the tools they need to prosper. She is currently working on a second book\, The Cost of Borders that argues borders\, rather than markers of sovereign territory\, are marketplaces comprised of always costly\, and often deadly transactions. Moving from Lesbos\, to Gaza\, to Tijuana\, the project shows how the costs of borders\, patterned by inequalities of racism\, sexism\, and disability\, fluctuate over time and space\, and differ depending on who is attempting to cross. \nShe has also been featured on NPR’s Code Switch (https://www.npr.org/2022/05/24/1101055230/how-we-decide-who-is-worthy-of-welcome)\, the podcast This is Hell! (https://thisishell.com/episodes/1770). \nAccess the Webinar\n#member only access | Join Webinar Here \nNot yet a member?  More info and Join today!
URL:https://ncge.org/event/the-cost-of-borders/
LOCATION:Webinar
CATEGORIES:Webinars
ATTACH;FMTTYPE=image/png:https://ncge.org/wp-content/uploads/2024/12/Borders_Webinar.png
END:VEVENT
END:VCALENDAR