BEGIN:VCALENDAR
VERSION:2.0
PRODID:-//National Council for Geographic Education - ECPv6.15.17.1//NONSGML v1.0//EN
CALSCALE:GREGORIAN
METHOD:PUBLISH
X-ORIGINAL-URL:https://ncge.org
X-WR-CALDESC:Events for National Council for Geographic Education
REFRESH-INTERVAL;VALUE=DURATION:PT1H
X-Robots-Tag:noindex
X-PUBLISHED-TTL:PT1H
BEGIN:VTIMEZONE
TZID:America/New_York
BEGIN:DAYLIGHT
TZOFFSETFROM:-0500
TZOFFSETTO:-0400
TZNAME:EDT
DTSTART:20240310T070000
END:DAYLIGHT
BEGIN:STANDARD
TZOFFSETFROM:-0400
TZOFFSETTO:-0500
TZNAME:EST
DTSTART:20241103T060000
END:STANDARD
BEGIN:DAYLIGHT
TZOFFSETFROM:-0500
TZOFFSETTO:-0400
TZNAME:EDT
DTSTART:20250309T070000
END:DAYLIGHT
BEGIN:STANDARD
TZOFFSETFROM:-0400
TZOFFSETTO:-0500
TZNAME:EST
DTSTART:20251102T060000
END:STANDARD
BEGIN:DAYLIGHT
TZOFFSETFROM:-0500
TZOFFSETTO:-0400
TZNAME:EDT
DTSTART:20260308T070000
END:DAYLIGHT
BEGIN:STANDARD
TZOFFSETFROM:-0400
TZOFFSETTO:-0500
TZNAME:EST
DTSTART:20261101T060000
END:STANDARD
END:VTIMEZONE
BEGIN:VEVENT
DTSTART;TZID=America/New_York:20250226T190000
DTEND;TZID=America/New_York:20250226T200000
DTSTAMP:20260420T060723
CREATED:20250129T192249Z
LAST-MODIFIED:20250129T201910Z
UID:10000296-1740596400-1740600000@ncge.org
SUMMARY:Memory & Monuments Across the Contemporary Middle East: Empires\, Nations\, and Environments
DESCRIPTION:Overview\nHow can engagements with the past both consolidate and challenge the power of state authorities? This presentation answers that question through a survey of monuments and memory across the contemporary Middle East. Drawing on case studies from places including Turkey\, Egypt\, Israel/Palestine\, Algeria\, and Saudi Arabia\, this talk describes the many forms that memory can take. It argues that although some of these struggles over memory are specific to the region of the Middle East\, many of the lessons they teach have much wider resonance in the context of global struggles over history\, justice\, and citizenship. \nAudience Focus\nAll grade levels \nMeet the Presenter\nTimur Hammond is an associate professor in the Geography and the Environment Department at Syracuse University’s Maxwell School of Citizenship and Public Affairs. He received a Ph.D. and M.A. in geography from the University of California\, Los Angeles (2016\, 2010)\, and a B.A. in English/creative writing from the University of North Carolina\, Chapel Hill (2005). Prior to joining the faculty at Syracuse University\, he worked in the Department of Geography at the University of Vermont. Trained as an urban and cultural geographer\, his research draws on archival and ethnographic methods to explore the intersection between urban experience and cultural identity\, with a particular focus on 20th century Turkey. He has published widely on a variety of topics\, including his 2023 monograph Placing Islam: Geographies of Connection in 20th Century Istanbul\, and articles on translation\, the politics of memory\, and the geographies of religion. \nAccess the Webinar\n#Open access | Join Webinar Here \nNot yet a member?  More info and Join today!
URL:https://ncge.org/event/memory-monuments-across-the-contemporary-middle-east/
LOCATION:Webinar
CATEGORIES:Webinars
ATTACH;FMTTYPE=image/png:https://ncge.org/wp-content/uploads/2025/01/Jan_2025_WEBINAR.png
END:VEVENT
END:VCALENDAR