BEGIN:VCALENDAR
VERSION:2.0
PRODID:-//National Council for Geographic Education - ECPv6.15.17.1//NONSGML v1.0//EN
CALSCALE:GREGORIAN
METHOD:PUBLISH
X-WR-CALNAME:National Council for Geographic Education
X-ORIGINAL-URL:https://ncge.org
X-WR-CALDESC:Events for National Council for Geographic Education
REFRESH-INTERVAL;VALUE=DURATION:PT1H
X-Robots-Tag:noindex
X-PUBLISHED-TTL:PT1H
BEGIN:VTIMEZONE
TZID:America/New_York
BEGIN:DAYLIGHT
TZOFFSETFROM:-0500
TZOFFSETTO:-0400
TZNAME:EDT
DTSTART:20240310T070000
END:DAYLIGHT
BEGIN:STANDARD
TZOFFSETFROM:-0400
TZOFFSETTO:-0500
TZNAME:EST
DTSTART:20241103T060000
END:STANDARD
BEGIN:DAYLIGHT
TZOFFSETFROM:-0500
TZOFFSETTO:-0400
TZNAME:EDT
DTSTART:20250309T070000
END:DAYLIGHT
BEGIN:STANDARD
TZOFFSETFROM:-0400
TZOFFSETTO:-0500
TZNAME:EST
DTSTART:20251102T060000
END:STANDARD
BEGIN:DAYLIGHT
TZOFFSETFROM:-0500
TZOFFSETTO:-0400
TZNAME:EDT
DTSTART:20260308T070000
END:DAYLIGHT
BEGIN:STANDARD
TZOFFSETFROM:-0400
TZOFFSETTO:-0500
TZNAME:EST
DTSTART:20261101T060000
END:STANDARD
END:VTIMEZONE
BEGIN:VEVENT
DTSTART;TZID=America/New_York:20251112T150000
DTEND;TZID=America/New_York:20251112T160000
DTSTAMP:20260420T103212
CREATED:20251101T203016Z
LAST-MODIFIED:20251101T204521Z
UID:10000391-1762959600-1762963200@ncge.org
SUMMARY:Our World In Data
DESCRIPTION:Overview\nPoverty\, disease\, hunger\, climate change\, war\, existential risks\, and inequality: the world faces many great and terrifying problems. It is these large problems that our work at Our World in Data focuses on. The goal of our work is to make this knowledge accessible and understandable to empower those working to build a better world. Join us for a webinar that will show how this free resource can be used by educators to gather current data and reports on many topics globally. While not a source for lesson plans\, it is a source to create lessons and activities in which the students can interact with the data themselves. **If you have questions that you would like to ask the presenter\, please email them to Julie julie@ncge.org **There will be time for Q & A during the webinar. \nAudience Focus\nAll Grade Levels \nMeet the Presenters\nDr. Charlie Giattino is the Communications & Outreach Manager at Our World in Data. He joined OWID in 2020 and has worked across the team: initially joining as a researcher\, later moving to the operations team\, and now leading communications. He completed his Ph.D. in cognitive neuroscience at Duke University. Charlie is originally from Texas and now based in London. \n\nAccess the Webinar\n#open access | Join Webinar Here \nNot yet a member?  More info and Join today!
URL:https://ncge.org/event/our-world-in-data/
LOCATION:Webinar
CATEGORIES:Webinars
ATTACH;FMTTYPE=image/png:https://ncge.org/wp-content/uploads/2025/11/Webinar_Wolrd_Data_2025.png
END:VEVENT
END:VCALENDAR