BEGIN:VCALENDAR
VERSION:2.0
PRODID:-//National Council for Geographic Education - ECPv6.15.17.1//NONSGML v1.0//EN
CALSCALE:GREGORIAN
METHOD:PUBLISH
X-ORIGINAL-URL:https://ncge.org
X-WR-CALDESC:Events for National Council for Geographic Education
REFRESH-INTERVAL;VALUE=DURATION:PT1H
X-Robots-Tag:noindex
X-PUBLISHED-TTL:PT1H
BEGIN:VTIMEZONE
TZID:America/New_York
BEGIN:DAYLIGHT
TZOFFSETFROM:-0500
TZOFFSETTO:-0400
TZNAME:EDT
DTSTART:20250309T070000
END:DAYLIGHT
BEGIN:STANDARD
TZOFFSETFROM:-0400
TZOFFSETTO:-0500
TZNAME:EST
DTSTART:20251102T060000
END:STANDARD
BEGIN:DAYLIGHT
TZOFFSETFROM:-0500
TZOFFSETTO:-0400
TZNAME:EDT
DTSTART:20260308T070000
END:DAYLIGHT
BEGIN:STANDARD
TZOFFSETFROM:-0400
TZOFFSETTO:-0500
TZNAME:EST
DTSTART:20261101T060000
END:STANDARD
BEGIN:DAYLIGHT
TZOFFSETFROM:-0500
TZOFFSETTO:-0400
TZNAME:EDT
DTSTART:20270314T070000
END:DAYLIGHT
BEGIN:STANDARD
TZOFFSETFROM:-0400
TZOFFSETTO:-0500
TZNAME:EST
DTSTART:20271107T060000
END:STANDARD
END:VTIMEZONE
BEGIN:VEVENT
DTSTART;TZID=America/New_York:20260121T190000
DTEND;TZID=America/New_York:20260121T200000
DTSTAMP:20260420T073458
CREATED:20260102T204323Z
LAST-MODIFIED:20260105T154241Z
UID:10000398-1769022000-1769025600@ncge.org
SUMMARY:Revolutionary Crossroads Field Experience
DESCRIPTION:Overview\nTravel to the Capital Region of New York June 21 – 28\, 2026 to experience\, reflect\, and commemorate 250 years of US independence in one of the most dynamic and critical geographic areas in American and world history. Fort Ticonderoga\, Lake George\, Fort William Henry\, Lake Champlain\, Saratoga\, Fort Orange (Albany)\, and the Mohawk Valley contain some of the most significant sites and situations that shaped the U.S. This 7-day experience will provide participants with the opportunity to visit historic sites and museums while working with scholars and archivists to consider and reflect on the significance of our country’s semiquincentennial through a geographic and multi-perspective lens. \nAudience Focus\nAll grade levels \nMeet the Presenter\nChris Bunin teaches social studies and Geospatial Technologies at Albemarle High School\, and am an adjunct geography professor for the Virginia Community College System and the University of Virginia . From 2006 – 2012 he directed the Teacher Scholars Program for the Virginia Experiment and America on the World Stage Teaching American History Projects. In this role he coordinated and implemented inquiry-based experiential professional development opportunities for local classroom teachers. \n  \nAccess the Webinar\n#open access | Join Webinar Here \nNot yet a member?  More info and Join today!
URL:https://ncge.org/event/revolutionary-crossroads-field-experience/
LOCATION:Webinar
CATEGORIES:Webinars
ATTACH;FMTTYPE=image/png:https://ncge.org/wp-content/uploads/2026/01/Webinar_2026_RevolutionaryCrossroads.png
END:VEVENT
END:VCALENDAR